BEGIN:VCALENDAR
VERSION:2.0
PRODID:-//Friends of Pātaka - ECPv5.3.1.1//NONSGML v1.0//EN
CALSCALE:GREGORIAN
METHOD:PUBLISH
X-WR-CALNAME:Friends of Pātaka
X-ORIGINAL-URL:https://friendsofpataka.org.nz
X-WR-CALDESC:Events for Friends of Pātaka
BEGIN:VTIMEZONE
TZID:Pacific/Auckland
BEGIN:STANDARD
TZOFFSETFROM:+1300
TZOFFSETTO:+1200
TZNAME:NZST
DTSTART:20210403T140000
END:STANDARD
BEGIN:DAYLIGHT
TZOFFSETFROM:+1200
TZOFFSETTO:+1300
TZNAME:NZDT
DTSTART:20210925T140000
END:DAYLIGHT
END:VTIMEZONE
BEGIN:VEVENT
DTSTART;TZID=Pacific/Auckland:20210419T193000
DTEND;TZID=Pacific/Auckland:20210419T203000
DTSTAMP:20210122T141812
CREATED:20210105T082931Z
LAST-MODIFIED:20210106T035105Z
UID:1833-1618860600-1618864200@friendsofpataka.org.nz
SUMMARY:Friends of Pataka AGM
DESCRIPTION:19 April 2021 : 7.30 p.m Te Hapori Room\, Pātaka Arts +Museum
URL:https://friendsofpataka.org.nz/event/friends-of-pataka-agm/
LOCATION:Pātaka Art + Museum\, 17 Parumoana Street\, Porirua City\, Wellington\, 5022\, New Zealand
ORGANIZER;CN="Friends%20of%20P%C4%81taka":MAILTO:patakafriends@gmail.com
END:VEVENT
BEGIN:VEVENT
DTSTART;TZID=Pacific/Auckland:20210313T100000
DTEND;TZID=Pacific/Auckland:20210314T160000
DTSTAMP:20210122T141812
CREATED:20200829T180002Z
LAST-MODIFIED:20210121T062610Z
UID:1044-1615629600-1615737600@friendsofpataka.org.nz
SUMMARY:Friends of Pātaka Arts Trail 2021
DESCRIPTION:The Friends of Pātaka Arts Trail is back\, bigger and better! \nA community festival that takes everything from painting and weaving to 3D printing\, printmaking and textiling\, and displays it across Porirua city\, returns 13 -14 March 2021. \nThe Arts Trail will include a wide range of artists exhibiting in 16 studios and 8 large hubs. As in previous years\, some of the major hubs will be Pātaka\, the Gear Homestead Woolshed\, and Mana Arts Society. But this time there will also be community hubs\, where local artists gather to exhibit and to sell their work. Download the 2021 brochure from this page and join this exciting event\, or collect your brochure from Pātaka from 8 February. \nClick Here to Download the 2021 Brochure\n\n    \n            \n            \n        \n    \n\n    \n                Arts Trail Guide 2021\n        \n                    File size: 5.25 MB\n                    Created: 20-01-2021\n                    Updated: 21-01-2021\n                    Hits: 15\n        \n    \n    \n                \n                    \n                    Download\n                \n                    \n                        \n                        Preview
URL:https://friendsofpataka.org.nz/event/arts-trail-2021/
LOCATION:Pātaka Art + Museum\, 17 Parumoana Street\, Porirua City\, Wellington\, 5022\, New Zealand
CATEGORIES:Arts Trail
ATTACH;FMTTYPE=image/png:https://friendsofpataka.org.nz/wp-content/uploads/2020/08/Arts-Trail-Poster-1.png
ORGANIZER;CN="Friends%20of%20P%C4%81taka":MAILTO:patakafriends@gmail.com
END:VEVENT
END:VCALENDAR